BEGIN:VCALENDAR
VERSION:2.0
PRODID:-//ASE Sinaloa - ECPv5.14.1//NONSGML v1.0//EN
CALSCALE:GREGORIAN
METHOD:PUBLISH
X-WR-CALNAME:ASE Sinaloa
X-ORIGINAL-URL:https://www.ase-sinaloa.gob.mx
X-WR-CALDESC:Eventos para ASE Sinaloa
BEGIN:VTIMEZONE
TZID:UTC
BEGIN:STANDARD
TZOFFSETFROM:+0000
TZOFFSETTO:+0000
TZNAME:UTC
DTSTART:20220101T000000
END:STANDARD
END:VTIMEZONE
BEGIN:VEVENT
DTSTART;VALUE=DATE:20221121
DTEND;VALUE=DATE:20221122
DTSTAMP:20260422T095914
CREATED:20221118T211954Z
LAST-MODIFIED:20221118T212053Z
UID:13083-1668988800-1669075199@www.ase-sinaloa.gob.mx
SUMMARY:Acuerdo Día Inhábil
DESCRIPTION:Se comunica que para dar cumplimiento al Decreto que reforma el Artículo 74 fracción VI\, \nde la Ley Federal del Trabajo\, publicado en el Diario Oficial de la Federación\, \nel 17 de enero del año 2006\, se considera inhábil el día LUNES 21 de NOVIEMBRE\, \nen conmemoración de la “Revolución Mexicana“ \n 
URL:https://www.ase-sinaloa.gob.mx/calendario/acuerdo-dia-inhabil-3/
CATEGORIES:Días Inhábiles,Eventos
END:VEVENT
END:VCALENDAR