BEGIN:VCALENDAR
VERSION:2.0
PRODID:-//ASE Sinaloa - ECPv5.14.1//NONSGML v1.0//EN
CALSCALE:GREGORIAN
METHOD:PUBLISH
X-WR-CALNAME:ASE Sinaloa
X-ORIGINAL-URL:https://www.ase-sinaloa.gob.mx
X-WR-CALDESC:Eventos para ASE Sinaloa
BEGIN:VTIMEZONE
TZID:UTC
BEGIN:STANDARD
TZOFFSETFROM:+0000
TZOFFSETTO:+0000
TZNAME:UTC
DTSTART:20250101T000000
END:STANDARD
END:VTIMEZONE
BEGIN:VEVENT
DTSTART;VALUE=DATE:20251210
DTEND;VALUE=DATE:20251211
DTSTAMP:20260420T142020
CREATED:20250625T191028Z
LAST-MODIFIED:20251126T172616Z
UID:16178-1765324800-1765411199@www.ase-sinaloa.gob.mx
SUMMARY:Día Mundial de los Derechos Humanos.
DESCRIPTION:Un compromiso global por la dignidad\, la justicia y la igualdad.\nCada 10 de diciembre\, el mundo celebra el Día Mundial de los Derechos Humanos\, establecido por la Asamblea General de las Naciones Unidas en 1950 para conmemorar la adopción de la Declaración Universal de los Derechos Humanos ocurrida el 10 de diciembre de 1948. \nEste documento histórico marcó un antes y un después al sentar las bases para la protección de los derechos fundamentales que corresponden a todas las personas\, sin distinción de raza\, género\, nacionalidad\, religión\, o cualquier otra condición.
URL:https://www.ase-sinaloa.gob.mx/calendario/dia-mundial-de-los-derechos-humanos/
CATEGORIES:Efemerides
ATTACH;FMTTYPE=image/jpeg:https://www.ase-sinaloa.gob.mx/wp-content/uploads/2025/06/Derechos_humanos.jpg
END:VEVENT
END:VCALENDAR